BEGIN:VCALENDAR
PRODID:-//eluceo/ical//2.0/EN
VERSION:2.0
CALSCALE:GREGORIAN
BEGIN:VEVENT
UID:ab01a47db0c96d93fe08cd144630daa8
DTSTAMP:20260425T145449Z
SUMMARY:Film Screening & Talk-back - Mr. Gaga
DESCRIPTION:Shaw JCC of Akron\nCalendar\nhttps://shawjcc.org/calendar/film-
 screening--talk-back---mr-gaga-1534701109-284259\n\nMr. Gaga tells the sto
 ry of Israeli-born Ohad Naharin\, renowned choreographer and artistic dire
 ctor of the Batsheva Dance Company. Depicting an artistic genius who redef
 ined the language of modern dance\, the film recalls Naharin’s early upb
 ringing in the kibbutz and its influence on him as an artist. A talk-back 
 follows with Debra S. Yasinow\, Director of Cleveland Israel Arts Connecti
 on.\n\nSeating is limited and preregistration is highly recommended.
DTSTART;TZID=America/New_York:20180926T190000
DTEND;TZID=America/New_York:20180926T210000
END:VEVENT
END:VCALENDAR
