BEGIN:VCALENDAR
PRODID:-//eluceo/ical//2.0/EN
VERSION:2.0
CALSCALE:GREGORIAN
BEGIN:VEVENT
UID:1fbbb540f797286e3c62e049c3e32723
DTSTAMP:20260420T134914Z
SUMMARY:FILM SCREENING & TALK-BACK: Asperger’s Are Us
DESCRIPTION:Shaw JCC of Akron\nCalendar\nhttps://shawjcc.org/calendar/film-
 screening--talk-back-aspergers-are-us-1560887037-314657\n\nIn this coming 
 of age documentary\, four friends on the Autism spectrum whom have bonded 
 through humor and performed as the comedy troupe ASPERGER’S ARE US will 
 prepare for one final\, ambitious show before going their separate ways. A
  talk-back follows with Nicole Gerami\, a speech and language pathologist 
 specializing in social and emotional well-being of children through commun
 ication skills. She runs the highly regarded program FIT\, also known as F
 riendship and Teams.
DTSTART;TZID=America/New_York:20190814T183000
DTEND;TZID=America/New_York:20190814T203000
END:VEVENT
END:VCALENDAR
