BEGIN:VCALENDAR
PRODID:-//eluceo/ical//2.0/EN
VERSION:2.0
CALSCALE:GREGORIAN
BEGIN:VEVENT
UID:22d1a3db7c7038bac330816928cd5f6e
DTSTAMP:20260420T155158Z
SUMMARY:FILM SCREENING & TALK-BACK: Wild Kids
DESCRIPTION:Shaw JCC of Akron\nCalendar\nhttps://shawjcc.org/calendar/film-
 screening--talk-back-wild-kids-1560362630-313654\n\nThis Israeli documenta
 ry takes us behind the hidden heavy metal doors of an old Jerusalem bomb s
 helter to a tiny animation studio. Every week several children of Russian 
 immigrants meet to create a colorful carnival of monsters and earthquakes.
  WILD KIDS illuminates the subversive world of two talented teenage artist
 s through a period of adolescence as they discover their own identity\, as
  one must decide whether to stay in Israel and the other strives for recog
 nition of his radical artistic p...
DTSTART;TZID=America/New_York:20190717T183000
DTEND;TZID=America/New_York:20190717T203000
END:VEVENT
END:VCALENDAR
