BEGIN:VCALENDAR
PRODID:-//eluceo/ical//2.0/EN
VERSION:2.0
CALSCALE:GREGORIAN
BEGIN:VEVENT
UID:643ddeafdcad331d9835dceda3e836bf
DTSTAMP:20260425T011238Z
SUMMARY:Film Screening at the Maltz Museum: Changed by Thalerhof
DESCRIPTION:Shaw JCC of Akron\nCalendar\nhttps://shawjcc.org/calendar/film-
 screening-changed-by-thalerhof-1523209537-267093\n\nView a fascinating and
  disturbing history of a progenitor to the concentration camps\, meet the 
 filmmakers\, and enjoy light Eastern European refreshments. Changed by Tha
 lerhof illuminates the forgotten history of the Carpatho-Rusyns held in th
 e camp in Austria in 1914 by fearful Austrians who believed they were Russ
 ian sympathizers at the outbreak of World War I. Filmmakers Maria Silvestr
 i and John Righetti will discuss the film with Laurel Tombozzi of the East
 ern European Congress of Ohio.
DTSTART;TZID=America/New_York:20180425T190000
DTEND;TZID=America/New_York:20180425T210000
END:VEVENT
END:VCALENDAR
