BEGIN:VCALENDAR
PRODID:-//eluceo/ical//2.0/EN
VERSION:2.0
CALSCALE:GREGORIAN
BEGIN:VEVENT
UID:b2d4b679695dca66f1d2c09fd09a8710
DTSTAMP:20260421T154332Z
SUMMARY:Film Screening: Symphony of Six Million
DESCRIPTION:Shaw JCC of Akron\nCalendar\nhttps://shawjcc.org/calendar/film-
 screening-symphony-of-six-million-1514919328-257680\n\nView this classic a
 nd moving 1932 film on our big screen! Join us for Symphony of Six Million
 \, which follows the rise of a young\, talented Jewish surgeon from the Lo
 wer East Side of New York City to the heights of society. When tragedy str
 ikes can he remain true to his heritage? After the screening\, go deeper w
 ith a talk-back with Cleveland Cinema’s Dave Huffman. Popcorn provided!
DTSTART;TZID=America/New_York:20180314T190000
DTEND;TZID=America/New_York:20180314T210000
END:VEVENT
END:VCALENDAR
