BEGIN:VCALENDAR
PRODID:-//eluceo/ical//2.0/EN
VERSION:2.0
CALSCALE:GREGORIAN
BEGIN:VEVENT
UID:3f4b9b9746fe9633bf62484a69b40a21
DTSTAMP:20260424T021237Z
SUMMARY:Finding The Women Within
DESCRIPTION:Shaw JCC of Akron\nCalendar\nhttps://shawjcc.org/calendar/findi
 ng-the-women-within-passover-301695\n\nA new view of Passover\, for women 
 only. A therapeutic art experience of Biblical woman associated with Passo
 ver - Shifra and Puah\, Batya\, and Miriam. Through their eyes\, learn how
  they expressed longings\, challenges\, and joys. A joint art class betwee
 n Beth El and Akron ArtWorks.\n\nApril 4\, 11\, & 25 7:30 - 9 pm\, $5/clas
 s and registration required at www.akronartworks.com\n\nFacilitated by Rab
 bi Elyssa Austerklein.\n\nNo art experience necessary.
DTSTART;TZID=America/New_York:20190404T193000
DTEND;TZID=America/New_York:20190404T210000
END:VEVENT
END:VCALENDAR
