BEGIN:VCALENDAR
PRODID:-//eluceo/ical//2.0/EN
VERSION:2.0
CALSCALE:GREGORIAN
BEGIN:VEVENT
UID:eb61d2dc4232d0b768d8eee8722fef20
DTSTAMP:20260422T132619Z
SUMMARY:Flu Shots for Staff & Members
DESCRIPTION:Shaw JCC of Akron\nCalendar\nhttps://shawjcc.org/calendar/flu-s
 hots-for-staff-members-322413\n\nDon't delay! Get your flu shot this fall!
  \n\nSHAW JCC\nMONDAY\, SEPT. 23\, 10:30 A.M.-NOON\nBring your insurance 
 card and deductible if applicable.The Shaw JCC is located on 750 White Pon
 d Dr. in Akron. For more information\, please contact Julie LeFever at jle
 fever@shawjcc.org or 330-835-0027.
DTSTART;TZID=America/New_York:20190923T103000
DTEND;TZID=America/New_York:20190923T120000
END:VEVENT
END:VCALENDAR
