BEGIN:VCALENDAR
PRODID:-//eluceo/ical//2.0/EN
VERSION:2.0
CALSCALE:GREGORIAN
BEGIN:VEVENT
UID:724ce4ab744dcbfcd78765ddbdb1d0fd
DTSTAMP:20260423T013940Z
SUMMARY:Food Fair Pick Up
DESCRIPTION:Shaw JCC of Akron\nCalendar\nhttps://shawjcc.org/calendar/food-
 fair-pick-up-1689774201-443403\n\nPick up time for holiday food orders at 
 Anshe Sfard
DTSTART;TZID=America/New_York:20230910T110000
DTEND;TZID=America/New_York:20230910T130000
END:VEVENT
END:VCALENDAR
