BEGIN:VCALENDAR
PRODID:-//eluceo/ical//2.0/EN
VERSION:2.0
CALSCALE:GREGORIAN
BEGIN:VEVENT
UID:897f3860e629b5b5d25ed2c297b88610
DTSTAMP:20260421T194121Z
SUMMARY:Free Informational Services for Holocaust Survivors
DESCRIPTION:Shaw JCC of Akron\nCalendar\nhttps://shawjcc.org/calendar/free-
 informational-services-for-holocaust-survivors-290280\n\nIf you or someone
  you know who currently resides in the Akron or Summit County area\, is Je
 wish\, and lived in Europe or the occupied territories of the Former Sovie
 t Union between January 1933 and May 1945\, you may be eligible for repara
 tions and/or other in-home support services.\n\nJoin us for a FREE informa
 tion session to learn if you or someone you know may qualify to receive th
 e following:\n\n\nSkilled home care\nPrivate duty home care\nHome cleaning
 \nFinancial reparations\nEmergency...
DTSTART;TZID=America/New_York:20181030T140000
DTEND;TZID=America/New_York:20181030T153000
END:VEVENT
END:VCALENDAR
