BEGIN:VCALENDAR
PRODID:-//eluceo/ical//2.0/EN
VERSION:2.0
CALSCALE:GREGORIAN
BEGIN:VEVENT
UID:c4de1a94a91142dd92f9f4a84dd51a0b
DTSTAMP:20260422T080119Z
SUMMARY:Friday Night Live Beth El
DESCRIPTION:Shaw JCC of Akron\nCalendar\nhttps://shawjcc.org/calendar/frida
 y-night-live-1763734439-505582\n\nFriday Night Service and Potluck
DTSTART;TZID=America/New_York:20251205T180000
DTEND;TZID=America/New_York:20251205T200000
END:VEVENT
END:VCALENDAR
