BEGIN:VCALENDAR
PRODID:-//eluceo/ical//2.0/EN
VERSION:2.0
CALSCALE:GREGORIAN
BEGIN:VEVENT
UID:6fd56fad98478a1d04f2acc89aa99039
DTSTAMP:20260421T134839Z
SUMMARY:Friday with  Friends
DESCRIPTION:Shaw JCC of Akron\nCalendar\nhttps://shawjcc.org/calendar/frida
 y-with--friends-1680021725-434733\n\nJoin Beth El for our Family Friendly 
 Musical Kabbalat Shabbat Service with communal singing and musical accompa
 niment\, followed by delicious and leisurely potluck dinner.
DTSTART;TZID=America/New_York:20241115T180000
DTEND;TZID=America/New_York:20241115T200000
END:VEVENT
END:VCALENDAR
