BEGIN:VCALENDAR
PRODID:-//eluceo/ical//2.0/EN
VERSION:2.0
CALSCALE:GREGORIAN
BEGIN:VEVENT
UID:c264cd7fbcb87e583277619fb6a71b0a
DTSTAMP:20260420T120155Z
SUMMARY:Friday With Friends at Beth El
DESCRIPTION:Shaw JCC of Akron\nCalendar\nhttps://shawjcc.org/calendar/frida
 y-with-friends-1678631669-433664\n\nBeth El invites you to our Family Frie
 ndly Musical Kabbalat Shabbat Service with communal singing and musical ac
 companiment followed by a pot luck dinner.
DTSTART;TZID=America/New_York:20230623T180000
DTEND;TZID=America/New_York:20230623T200000
END:VEVENT
END:VCALENDAR
