BEGIN:VCALENDAR
PRODID:-//eluceo/ical//2.0/EN
VERSION:2.0
CALSCALE:GREGORIAN
BEGIN:VEVENT
UID:f34847193d2d9b453a6a53af3f81b59e
DTSTAMP:20260420T120215Z
SUMMARY:Friday with Friends
DESCRIPTION:Shaw JCC of Akron\nCalendar\nhttps://shawjcc.org/calendar/frida
 y-with-friends-1680017034-434709\n\nJoin Beth El for our Family Friendly M
 usical Kabbalat Shabbat Service with communal singing and musical accompan
 iment\, followed by delicious and leisurely potluck dinner.
DTSTART;TZID=America/New_York:20231117T180000
DTEND;TZID=America/New_York:20231117T200000
END:VEVENT
END:VCALENDAR
