BEGIN:VCALENDAR
PRODID:-//eluceo/ical//2.0/EN
VERSION:2.0
CALSCALE:GREGORIAN
BEGIN:VEVENT
UID:449728e96b1a9166dea99e99a6b037b3
DTSTAMP:20260420T183320Z
SUMMARY:Friday with Friends
DESCRIPTION:Shaw JCC of Akron\nCalendar\nhttps://shawjcc.org/calendar/frida
 y-with-friends-1680022138-434739\n\nJoin Beth El for our Family Friendly M
 usical Kabbalat Shabbat Service with communal singing and musical accompan
 iment\, followed by delicious and leisurely potluck dinner.
DTSTART;TZID=America/New_York:20250530T180000
DTEND;TZID=America/New_York:20250530T200000
END:VEVENT
END:VCALENDAR
