BEGIN:VCALENDAR
PRODID:-//eluceo/ical//2.0/EN
VERSION:2.0
CALSCALE:GREGORIAN
BEGIN:VEVENT
UID:155d1441dbb6ad5492c3ec3239f300eb
DTSTAMP:20260424T231029Z
SUMMARY:Golf Outing 2024
DESCRIPTION:Shaw JCC of Akron\nCalendar\nhttps://shawjcc.org/calendar/golf-
 outing-2024-473825\n\nGolf Outing to benefit the Shaw JCC and Lippman Scho
 ol
DTSTART;TZID=America/New_York:20240923T090000
DTEND;TZID=America/New_York:20240923T150000
END:VEVENT
END:VCALENDAR
