BEGIN:VCALENDAR
PRODID:-//eluceo/ical//2.0/EN
VERSION:2.0
CALSCALE:GREGORIAN
BEGIN:VEVENT
UID:a0352ed5b6daaa900ca8b0e8b0f42921
DTSTAMP:20260421T103415Z
SUMMARY:Gospel Rock Shabbat
DESCRIPTION:Shaw JCC of Akron\nCalendar\nhttps://shawjcc.org/calendar/gospe
 l-rock-shabbat-1582561374-344134\n\nTBD
DTSTART;TZID=America/New_York:20210305T181500
DTEND;TZID=America/New_York:20210305T191500
END:VEVENT
END:VCALENDAR
