BEGIN:VCALENDAR
PRODID:-//eluceo/ical//2.0/EN
VERSION:2.0
CALSCALE:GREGORIAN
BEGIN:VEVENT
UID:629eda51ddde6d78226a9c63da709d26
DTSTAMP:20260421T074445Z
SUMMARY:Gun Violence: Public Health Crisis?
DESCRIPTION:Shaw JCC of Akron\nCalendar\nhttps://shawjcc.org/calendar/gun-v
 iolence-public-health-crisis-1509991138-251597\n\n$12 general\, $6 Maltz M
 useum Members
DTSTART;TZID=America/New_York:20171115T000000
DTEND;TZID=America/New_York:20171115T235959
END:VEVENT
END:VCALENDAR
