BEGIN:VCALENDAR
PRODID:-//eluceo/ical//2.0/EN
VERSION:2.0
CALSCALE:GREGORIAN
BEGIN:VEVENT
UID:3f75d1f402ad9b8b8ccf1afbfb8274b2
DTSTAMP:20260422T195209Z
SUMMARY:Healios 360 Year End Program
DESCRIPTION:Shaw JCC of Akron\nCalendar\nhttps://shawjcc.org/calendar/heali
 os-360-year-end-program-295138\n\nThe Healios 360 Year End Program led by 
 Peach Yahney\, Ph.D. is a great way to finish out 2018\, help you reach yo
 ur goals throughout the holiday season and prepare for the new year. Class
  participants will continue with the familiar fusion class format and buil
 d on the affirmation and personal growth programming. \n\n \n\n\nWhat’
 s Included:\n\n\nIn-depth sessions that are built around Mind-Body Researc
 h\, Spiritual Wisdom\, Physical Exercise & Movement combined in a practica
 l manner.\nA nu...
DTSTART;TZID=America/New_York:20181210T050500
DTEND;TZID=America/New_York:20181210T060000
END:VEVENT
END:VCALENDAR
