BEGIN:VCALENDAR
PRODID:-//eluceo/ical//2.0/EN
VERSION:2.0
CALSCALE:GREGORIAN
BEGIN:VEVENT
UID:8dc18a8688b9a7f438d24b6d5639749d
DTSTAMP:20260425T163607Z
SUMMARY:Health Screening Tune-up
DESCRIPTION:Shaw JCC of Akron\nCalendar\nhttps://shawjcc.org/calendar/healt
 h-screening-tune-up-1485980075-221091\n\nHealth Screening Tune-up     Feb 
 14th   10:30 AM – 11:30 AM         FREE but RSVP’s MANDATORY          
                                                                If you want
  to keep a car running at its optimal levels\, then you have to bring it i
 n for an occasional tune-up. That’s true for our bodies\, too. Just like
  a car\, regular maintenance keeps us running at our best.  Getting regula
 r care is particularly important for seniors\, who represent the “classi
 c cars” of our...
DTSTART;TZID=America/New_York:20170214T103000
DTEND;TZID=America/New_York:20170214T113500
END:VEVENT
END:VCALENDAR
