BEGIN:VCALENDAR
PRODID:-//eluceo/ical//2.0/EN
VERSION:2.0
CALSCALE:GREGORIAN
BEGIN:VEVENT
UID:71380678298d4a2d7a0b888b3379228b
DTSTAMP:20260420T235020Z
SUMMARY:Hear Our Voices: Free MLK Day Celebration
DESCRIPTION:Shaw JCC of Akron\nCalendar\nhttps://shawjcc.org/calendar/hear-
 our-voices-free-mlk-day-celebration-1513708593-256558\n\nExplore how iconi
 c civil rights leader Rev. Dr. Martin Luther King\, Jr.\, and everyday cit
 izens fought against discrimination to change America. See our current spe
 cial exhibition\, Beyond Chicken Soup: Jews & Medicine in America\, to lea
 rn about the historic struggle for equality in health care and take a look
  at the future of medicine in America. Then\, share a cause you would figh
 t for! Join in a lively panel discussion with Margaret Mitchell of the YWC
 A\, Peggy Zone-Fisher of the Diversity Cen...
DTSTART;TZID=America/New_York:20180115T110000
DTEND;TZID=America/New_York:20180115T170000
END:VEVENT
END:VCALENDAR
