BEGIN:VCALENDAR
PRODID:-//eluceo/ical//2.0/EN
VERSION:2.0
CALSCALE:GREGORIAN
BEGIN:VEVENT
UID:e50219e8bff2b6da3f60afb6694ad2cb
DTSTAMP:20260420T152849Z
SUMMARY:HEAR OUR VOICES Free MLK Day Celebration
DESCRIPTION:Shaw JCC of Akron\nCalendar\nhttps://shawjcc.org/calendar/hear-
 our-voices-free-mlk-day-celebration-1546271900-297152\n\nJoin us for free 
 all day at the Maltz Museum! Honor iconic civil rights leader the Rev. Dr.
  Martin Luther King\, Jr.\, and everyday citizens who fought against discr
 imination by celebrating the everyday hero in all of us. Tour the Maltz Mu
 seum’s core and special exhibitions while enjoying hands-on crafts and a
 ctivities on this family-friendly day!\n\n11:00 am – On the One band per
 forms live in our Theater\n1:00 pm – The Evelyn Wright Quartet performs 
 live in our Theater\n3:00 pm – Panel...
DTSTART;TZID=America/New_York:20190121T110000
DTEND;TZID=America/New_York:20190121T170000
END:VEVENT
END:VCALENDAR
