BEGIN:VCALENDAR
PRODID:-//eluceo/ical//2.0/EN
VERSION:2.0
CALSCALE:GREGORIAN
BEGIN:VEVENT
UID:dca13dad7315c6c43653a931157b759a
DTSTAMP:20260426T024155Z
SUMMARY:Holocaust Commemoration for City of Akron
DESCRIPTION:Shaw JCC of Akron\nCalendar\nhttps://shawjcc.org/calendar/holoc
 aust-commemoration-for-city-of-akron-04102018-266367\n\nThe City of Akron 
 Holocaust Commemoration Committee invites the community to the 30th City o
 f Akron Holocaust Arts & Writing Contest Awards Ceremony and 32nd City of 
 Akron Holocaust Commemoration on Tuesday\, April 10\, at the Main Library 
 of the Akron-Summit County Public Library\, 60 S. High St.\, in downtown A
 kron.\n\nThe awards program begins at 6 p.m. Winning students and their wo
 rk will be recognized with th commemoration presented at 6:30 p.m. In reco
 gnition of our 30th anniversary there w...
DTSTART;TZID=America/New_York:20180410T180000
DTEND;TZID=America/New_York:20180410T210000
END:VEVENT
END:VCALENDAR
