BEGIN:VCALENDAR
PRODID:-//eluceo/ical//2.0/EN
VERSION:2.0
CALSCALE:GREGORIAN
BEGIN:VEVENT
UID:834a7b41f917209b92a7487fa7bd7d2e
DTSTAMP:20260424T065023Z
SUMMARY:Holocaust Seminar: Children During the Holocaust
DESCRIPTION:Shaw JCC of Akron\nCalendar\nhttps://shawjcc.org/calendar/holoc
 aust-seminar-2017-234473\n\n22nd Annual Holocaust Seminar\n\nChildren Duri
 ng the Holocaust\n\nKeynote: "A Childhood Vanquished in the Łódź Ghetto
 "\n\nby Dr. Mark B. Cole\, Associate College Lecturer in History\, Clevela
 nd State University\n\nIn his talk\, Cole will explore the notebooks of Da
 wid Sierakowiak. “His notebooks are truly a treasure trove\,” Dr. Cole
  said.   Sierakowiak kept a diary for five years from before the war thr
 ough his imprisonment in the Łódź Ghetto\, where he meticulously noted 
 not only the...
DTSTART;TZID=America/New_York:20171009T160000
DTEND;TZID=America/New_York:20171009T200000
END:VEVENT
END:VCALENDAR
