BEGIN:VCALENDAR
PRODID:-//eluceo/ical//2.0/EN
VERSION:2.0
CALSCALE:GREGORIAN
BEGIN:VEVENT
UID:2b3ee5c24556b7b2e7598f8664dde009
DTSTAMP:20260423T130806Z
SUMMARY:Honoring Herb & Ellen Moss
DESCRIPTION:Shaw JCC of Akron\nCalendar\nhttps://shawjcc.org/calendar/honor
 ing-herb--ellen-moss-1522260464-266232\n\nJCBA honoring Herb & Ellen Moss
DTSTART;TZID=America/New_York:20180618T173000
DTEND;TZID=America/New_York:20180618T193000
END:VEVENT
END:VCALENDAR
