BEGIN:VCALENDAR
PRODID:-//eluceo/ical//2.0/EN
VERSION:2.0
CALSCALE:GREGORIAN
BEGIN:VEVENT
UID:bd0f6a73ad8fd7f757bfa0bbc8c65f78
DTSTAMP:20260424T083147Z
SUMMARY:Ice Skating Party
DESCRIPTION:Shaw JCC of Akron\nCalendar\nhttps://shawjcc.org/calendar/ice-s
 kating-party-264525\n\nHosted by Akron 6-8 p.m. and joined by Canton\, You
 ngstown\, Toledo and Cleveland. Follows the Israel Festival and teen swim
 ming party at The J. We will leave The J at 5:15 p.m. and return around 8:
 30 p.m. Please RSVP so we can have an accurate count on bus seats. Grades 
 7-12\, Cost: $14 will cover transportation\, skates and games. RSVP to jm
 baker484@gmail.com.
DTSTART;TZID=America/New_York:20180422T171500
DTEND;TZID=America/New_York:20180422T203000
END:VEVENT
END:VCALENDAR
