BEGIN:VCALENDAR
PRODID:-//eluceo/ical//2.0/EN
VERSION:2.0
CALSCALE:GREGORIAN
BEGIN:VEVENT
UID:bd2a5b547bd4abe2b7dfbe472679fae6
DTSTAMP:20260422T031349Z
SUMMARY:Ignite Introduction Workshop
DESCRIPTION:Shaw JCC of Akron\nCalendar\nhttps://shawjcc.org/calendar/ignit
 e-introduction-workshop\n\nIgnite Resolution Weight Loss Introduction Boot
  Camp \n\nOpen to everyone\, this workshop is full of great info that can
  impact you.\n\n604.6.112 Tuesdays & Thursdays\, 6-7 p.m.\, Jan. 14- Feb.
  20\, in the VIBE room\n\n604.6.113 Mondays & Fridays\, 7-8 a.m.\, Jan. 1
 2- Feb. 21\, in the VIBE room\n\n(Cost includes all trainer-led sessions\,
  including the free intro workshop. \n\nCost: $180/M $240/G\n\nYou'll lea
 rn how to boost your metabolism\, change your body composition while gaini
 ng muscle and c...
DTSTART;TZID=America/New_York:20200107T180000
DTEND;TZID=America/New_York:20200107T190000
END:VEVENT
END:VCALENDAR
