BEGIN:VCALENDAR
PRODID:-//eluceo/ical//2.0/EN
VERSION:2.0
CALSCALE:GREGORIAN
BEGIN:VEVENT
UID:981067b99220f3cb8c2d8fdbb9434c8d
DTSTAMP:20260421T092412Z
SUMMARY:Monthly Health Talk: Improving Your Skills for Better Stress Manage
 ment
DESCRIPTION:Shaw JCC of Akron\nCalendar\nhttps://shawjcc.org/calendar/impro
 ving-your-skills-for-better-stress-management-1544734954-295776\n\nLocal h
 ealthcare professionals will provide information on a variety of subjects.
  Great information\, and a healthy snack will be served. This month\, Dr. 
 Moshe S. Torem\, Professor of Psychiatry at Northeast Ohio Medical Univers
 ity\, will present Improving your Skills for Better Stress Management. Fre
 e and open to the community.
DTSTART;TZID=America/New_York:20190115T104500
DTEND;TZID=America/New_York:20190115T114500
END:VEVENT
END:VCALENDAR
