BEGIN:VCALENDAR
PRODID:-//eluceo/ical//2.0/EN
VERSION:2.0
CALSCALE:GREGORIAN
BEGIN:VEVENT
UID:e2684942dfcbde22bd882aefc7828699
DTSTAMP:20260420T073702Z
SUMMARY:Inter-Board Training
DESCRIPTION:Shaw JCC of Akron\nCalendar\nhttps://shawjcc.org/calendar/inter
 -board-training-463863\n\nx
DTSTART;TZID=America/New_York:20240502T190000
DTEND;TZID=America/New_York:20240502T203000
END:VEVENT
END:VCALENDAR
