BEGIN:VCALENDAR
PRODID:-//eluceo/ical//2.0/EN
VERSION:2.0
CALSCALE:GREGORIAN
BEGIN:VEVENT
UID:14e128e8c54402511260a72e82e54463
DTSTAMP:20260422T113133Z
SUMMARY:Interfaith Family Panel
DESCRIPTION:Shaw JCC of Akron\nCalendar\nhttps://shawjcc.org/calendar/inter
 faith-family-panel-306991\n\nInterfaith Family Panel At Beth El 6-9pm
DTSTART;TZID=America/New_York:20190513T180000
DTEND;TZID=America/New_York:20190513T200000
END:VEVENT
END:VCALENDAR
