BEGIN:VCALENDAR
PRODID:-//eluceo/ical//2.0/EN
VERSION:2.0
CALSCALE:GREGORIAN
BEGIN:VEVENT
UID:da4a4bba5a720d5a817376a06558549b
DTSTAMP:20260424T065928Z
SUMMARY:Interfaith Justice Series
DESCRIPTION:Shaw JCC of Akron\nCalendar\nhttps://shawjcc.org/calendar/inter
 faith-justice-series-1698678680-451149\n\nInterfaith Justice Series with T
 emple Israel\, St Hillary\, Faith Lutheran and New Hope Baptist
DTSTART;TZID=America/New_York:20240221T180000
DTEND;TZID=America/New_York:20240221T200000
END:VEVENT
END:VCALENDAR
