BEGIN:VCALENDAR
PRODID:-//eluceo/ical//2.0/EN
VERSION:2.0
CALSCALE:GREGORIAN
BEGIN:VEVENT
UID:7609772a4e5ab0fbea4ae69ab7e0a938
DTSTAMP:20260425T190317Z
SUMMARY:Interfaith Thanksgiving Serivce
DESCRIPTION:Shaw JCC of Akron\nCalendar\nhttps://shawjcc.org/calendar/inter
 faith-thanksgiving-serivce-307318\n\nInterfaith Thanksgiving Serice
DTSTART;TZID=America/New_York:20191118T190000
DTEND;TZID=America/New_York:20191118T210000
END:VEVENT
END:VCALENDAR
