BEGIN:VCALENDAR
PRODID:-//eluceo/ical//2.0/EN
VERSION:2.0
CALSCALE:GREGORIAN
BEGIN:VEVENT
UID:2d948f1fdbce325bf8cda59b21cb3a23
DTSTAMP:20260423T031052Z
SUMMARY:Investment Committee Meeting
DESCRIPTION:Shaw JCC of Akron\nCalendar\nhttps://shawjcc.org/calendar/inves
 tment-committee-meeting-333847\n\nmeeting
DTSTART;TZID=America/New_York:20191112T073000
DTEND;TZID=America/New_York:20191112T083000
END:VEVENT
END:VCALENDAR
