BEGIN:VCALENDAR
PRODID:-//eluceo/ical//2.0/EN
VERSION:2.0
CALSCALE:GREGORIAN
BEGIN:VEVENT
UID:cd3e130087d65cc7c8ed4fb002b26ab9
DTSTAMP:20260422T190334Z
SUMMARY:I&O Committee Meeting
DESCRIPTION:Shaw JCC of Akron\nCalendar\nhttps://shawjcc.org/calendar/io-co
 mmittee-meeting-1598618639-362088\n\nI&O Committee Meeting
DTSTART;TZID=America/New_York:20200910T193000
DTEND;TZID=America/New_York:20200910T203000
END:VEVENT
END:VCALENDAR
