BEGIN:VCALENDAR
PRODID:-//eluceo/ical//2.0/EN
VERSION:2.0
CALSCALE:GREGORIAN
BEGIN:VEVENT
UID:d3e196d4777c5c0004be864739b0853c
DTSTAMP:20260421T135153Z
SUMMARY:Israel 101 With Joel Chasnoff
DESCRIPTION:Shaw JCC of Akron\nCalendar\nhttps://shawjcc.org/calendar/israe
 l-101-with-joel-chasnoff-452924\n\nPlease join us for this free event at J
 ewishAkron. Registration required online.
DTSTART;TZID=America/New_York:20231130T180000
DTEND;TZID=America/New_York:20231130T200000
END:VEVENT
END:VCALENDAR
