BEGIN:VCALENDAR
PRODID:-//eluceo/ical//2.0/EN
VERSION:2.0
CALSCALE:GREGORIAN
BEGIN:VEVENT
UID:5ccb1ca05ee0221c12b6a1426b36f309
DTSTAMP:20260420T223022Z
SUMMARY:Israel 201: Politics and Dilemmas
DESCRIPTION:Shaw JCC of Akron\nCalendar\nhttps://shawjcc.org/calendar/israe
 l-201-politics-and-dilemmas-1543769297-294926\n\nIsrael 201 is a project d
 esigned to bring a deeper perspective to your basic knowledge of Israel th
 rough conversation.\nThis time we will talk about the political system in 
 Israel and the biggest dilemmas that lead the Israelis and their politicia
 ns in their way.\nPlease RSVP to Mor - Shlichim@jewishakron.org
DTSTART;TZID=America/New_York:20190205T190000
DTEND;TZID=America/New_York:20190205T203000
END:VEVENT
END:VCALENDAR
