BEGIN:VCALENDAR
PRODID:-//eluceo/ical//2.0/EN
VERSION:2.0
CALSCALE:GREGORIAN
BEGIN:VEVENT
UID:90904222a4e0f16cb43b0b938618ef22
DTSTAMP:20260424T130352Z
SUMMARY:Israel Bonds Akron Community Event
DESCRIPTION:Shaw JCC of Akron\nCalendar\nhttps://shawjcc.org/calendar/israe
 l-bonds-akron-community-event-1556051428-308569\n\nIsrael Bonds Akron Comm
 unity Event \n750 White Pond Dr\nAkron\, OH 44320
DTSTART;TZID=America/New_York:20190915T190000
DTEND;TZID=America/New_York:20190915T210000
END:VEVENT
END:VCALENDAR
