BEGIN:VCALENDAR
PRODID:-//eluceo/ical//2.0/EN
VERSION:2.0
CALSCALE:GREGORIAN
BEGIN:VEVENT
UID:8d020f05fb9538f2e9164ff0b9feab18
DTSTAMP:20260423T005916Z
SUMMARY:Israel Through Song
DESCRIPTION:Shaw JCC of Akron\nCalendar\nhttps://shawjcc.org/calendar/israe
 l-through-song-1665682224-419717\n\nDiscover Israel one song at a time wit
 h our community shaliach Rami Feinstein at the Shaw JCC.
DTSTART;TZID=America/New_York:20221026T190000
DTEND;TZID=America/New_York:20221026T203000
END:VEVENT
END:VCALENDAR
