BEGIN:VCALENDAR
PRODID:-//eluceo/ical//2.0/EN
VERSION:2.0
CALSCALE:GREGORIAN
BEGIN:VEVENT
UID:3cb8435eda769a41c1ba684bb4fbd666
DTSTAMP:20260420T171020Z
SUMMARY:Israel Through Song
DESCRIPTION:Shaw JCC of Akron\nCalendar\nhttps://shawjcc.org/calendar/israe
 l-through-song-1667856695-421413\n\nAdult Education Program
DTSTART;TZID=America/New_York:20221214T190000
DTEND;TZID=America/New_York:20221214T203000
END:VEVENT
END:VCALENDAR
