BEGIN:VCALENDAR
PRODID:-//eluceo/ical//2.0/EN
VERSION:2.0
CALSCALE:GREGORIAN
BEGIN:VEVENT
UID:88dacac6330d667bb3248019a7445ba9
DTSTAMP:20260423T095015Z
SUMMARY:Israel Through Song
DESCRIPTION:Shaw JCC of Akron\nCalendar\nhttps://shawjcc.org/calendar/israe
 l-through-song-1676997847-432330\n\nIsrael Through Song
DTSTART;TZID=America/New_York:20230329T190000
DTEND;TZID=America/New_York:20230329T200000
END:VEVENT
END:VCALENDAR
