BEGIN:VCALENDAR
PRODID:-//eluceo/ical//2.0/EN
VERSION:2.0
CALSCALE:GREGORIAN
BEGIN:VEVENT
UID:eec57028e29d4c872aea5c2fe841e868
DTSTAMP:20260421T085846Z
SUMMARY:Israel Trip Meeting
DESCRIPTION:Shaw JCC of Akron\nCalendar\nhttps://shawjcc.org/calendar/israe
 l-trip-meeting-218909\n\nInformation for the families of kids going to Isr
 ael.
DTSTART;TZID=America/New_York:20170212T100000
DTEND;TZID=America/New_York:20170212T113000
END:VEVENT
END:VCALENDAR
