BEGIN:VCALENDAR
PRODID:-//eluceo/ical//2.0/EN
VERSION:2.0
CALSCALE:GREGORIAN
BEGIN:VEVENT
UID:b1aca57376e5dd9113c80cbdc6fee9f4
DTSTAMP:20260422T041016Z
SUMMARY:JA Campaign 2026 Donor Event
DESCRIPTION:Shaw JCC of Akron\nCalendar\nhttps://shawjcc.org/calendar/ja-ca
 mpaign-2026-donor-event-499757\n\nMajor Donor Thank You Reception
DTSTART;TZID=America/New_York:20251110T173000
DTEND;TZID=America/New_York:20251110T190000
END:VEVENT
END:VCALENDAR
