BEGIN:VCALENDAR
PRODID:-//eluceo/ical//2.0/EN
VERSION:2.0
CALSCALE:GREGORIAN
BEGIN:VEVENT
UID:65dcfbdb0a2453f871daa4c70deeb307
DTSTAMP:20260425T161737Z
SUMMARY:JCBA Board Meeting
DESCRIPTION:Shaw JCC of Akron\nCalendar\nhttps://shawjcc.org/calendar/jcba-
 board-March2019-283635\n\nMeeting
DTSTART;TZID=America/New_York:20190313T190000
DTEND;TZID=America/New_York:20190313T200000
END:VEVENT
END:VCALENDAR
