BEGIN:VCALENDAR
PRODID:-//eluceo/ical//2.0/EN
VERSION:2.0
CALSCALE:GREGORIAN
BEGIN:VEVENT
UID:039f5609bde768ca93a6977d5d6304b3
DTSTAMP:20260422T021307Z
SUMMARY:JCBA Board Meeting
DESCRIPTION:Shaw JCC of Akron\nCalendar\nhttps://shawjcc.org/calendar/jcba-
 board-jan2019-277311\n\nmeeting
DTSTART;TZID=America/New_York:20190122T190000
DTEND;TZID=America/New_York:20190122T200000
END:VEVENT
END:VCALENDAR
