BEGIN:VCALENDAR
PRODID:-//eluceo/ical//2.0/EN
VERSION:2.0
CALSCALE:GREGORIAN
BEGIN:VEVENT
UID:4273e70f15d853e3a9900267c164eb5d
DTSTAMP:20260424T085206Z
SUMMARY:JCBA Board Meeting
DESCRIPTION:Shaw JCC of Akron\nCalendar\nhttps://shawjcc.org/calendar/jcba-
 board-may2019-277312\n\nmeeting
DTSTART;TZID=America/New_York:20190521T190000
DTEND;TZID=America/New_York:20190521T200000
END:VEVENT
END:VCALENDAR
