BEGIN:VCALENDAR
PRODID:-//eluceo/ical//2.0/EN
VERSION:2.0
CALSCALE:GREGORIAN
BEGIN:VEVENT
UID:b59afdc42afa15cdae9e817d6d6b455b
DTSTAMP:20260425T170806Z
SUMMARY:JCBA Board Meeting
DESCRIPTION:Shaw JCC of Akron\nCalendar\nhttps://shawjcc.org/calendar/jcba-
 board-meeting-10-5-385779\n\nJCBA Board Meeting
DTSTART;TZID=America/New_York:20211005T190000
DTEND;TZID=America/New_York:20211005T200000
END:VEVENT
END:VCALENDAR
