BEGIN:VCALENDAR
PRODID:-//eluceo/ical//2.0/EN
VERSION:2.0
CALSCALE:GREGORIAN
BEGIN:VEVENT
UID:7e0ac90a4cd44e48f1d73caae1f362d7
DTSTAMP:20260424T083629Z
SUMMARY:JCBA Board Meeting
DESCRIPTION:Shaw JCC of Akron\nCalendar\nhttps://shawjcc.org/calendar/jcba-
 board-meeting-319767\n\nMeeting of Board of Trustees
DTSTART;TZID=America/New_York:20190917T190000
DTEND;TZID=America/New_York:20190917T200000
END:VEVENT
END:VCALENDAR
