BEGIN:VCALENDAR
PRODID:-//eluceo/ical//2.0/EN
VERSION:2.0
CALSCALE:GREGORIAN
BEGIN:VEVENT
UID:bffa1f163383f86adb3913a656f59449
DTSTAMP:20260420T183522Z
SUMMARY:JCBA Board Meeting
DESCRIPTION:Shaw JCC of Akron\nCalendar\nhttps://shawjcc.org/calendar/jcba-
 board-meeting-4-26-433760\n\nMeeting
DTSTART;TZID=America/New_York:20230426T190000
DTEND;TZID=America/New_York:20230426T203000
END:VEVENT
END:VCALENDAR
