BEGIN:VCALENDAR
PRODID:-//eluceo/ical//2.0/EN
VERSION:2.0
CALSCALE:GREGORIAN
BEGIN:VEVENT
UID:fc75582626d563e45bae97971aca67e9
DTSTAMP:20260425T042251Z
SUMMARY:JCBA Board Meeting
DESCRIPTION:Shaw JCC of Akron\nCalendar\nhttps://shawjcc.org/calendar/jcba-
 board-meeting-5-17-385787\n\nJCBA
DTSTART;TZID=America/New_York:20220517T190000
DTEND;TZID=America/New_York:20220517T200000
END:VEVENT
END:VCALENDAR
