BEGIN:VCALENDAR
PRODID:-//eluceo/ical//2.0/EN
VERSION:2.0
CALSCALE:GREGORIAN
BEGIN:VEVENT
UID:82cb26589ef2f3b07aac651408d728c2
DTSTAMP:20260420T183228Z
SUMMARY:JCBA Board Meeting
DESCRIPTION:Shaw JCC of Akron\nCalendar\nhttps://shawjcc.org/calendar/jcba-
 board-meeting-dec-334891\n\nMeeting
DTSTART;TZID=America/New_York:20191211T190000
DTEND;TZID=America/New_York:20191211T200000
END:VEVENT
END:VCALENDAR
