BEGIN:VCALENDAR
PRODID:-//eluceo/ical//2.0/EN
VERSION:2.0
CALSCALE:GREGORIAN
BEGIN:VEVENT
UID:5f9acb5e95c5e830f3eddd2497ce670f
DTSTAMP:20260424T151936Z
SUMMARY:JCBA Board Meeting
DESCRIPTION:Shaw JCC of Akron\nCalendar\nhttps://shawjcc.org/calendar/jcba-
 board-meetingjan-323529\n\nMeeting
DTSTART;TZID=America/New_York:20200121T190000
DTEND;TZID=America/New_York:20200121T200000
END:VEVENT
END:VCALENDAR
